BEGIN:VCALENDAR
VERSION:2.0
CALSCALE:GREGORIAN
PRODID:adamgibbons/ics
METHOD:PUBLISH
X-PUBLISHED-TTL:PT1H
BEGIN:VEVENT
UID:11@event.nemo.earth
SUMMARY:PODAJ SERCE | 25. Edycja | Zbiórka na Polskie Towarzystwo Stwardnie
	nia Rozsianego
DTSTAMP:20260420T024758Z
DTSTART:20260427T153000Z
URL:https://event.nemo.earth/event/podaj-serce-or-25-edycja-or-zbiorka-na-p
	olskie-towarzystwo-stwardnienia-rozsianego
GEO:52.2327185;21.0117601
LOCATION:Teatr Palladium - 9\, Złota\, Centrum\, Śródmieście Północne\, Śró
	dmieście\, Warszawa\, województwo mazowieckie\, 00-019\, Polska
STATUS:CONFIRMED
CATEGORIES:wydarzenie,koncert,warszawa,teatr,palladium,charytatywne,stwardn
	ienierozsiane,taniec
END:VEVENT
END:VCALENDAR
